BEGIN:VCALENDAR
VERSION:2.0
PRODID:icalendar-ruby
CALSCALE:GREGORIAN
METHOD:PUBLISH
BEGIN:VEVENT
DTSTAMP:20260424T022149Z
UID:UHH_29275830_29275850
DTSTART:20260521T181500
DTEND:20260521T194500
LAST-MODIFIED:20260422T133516
LOCATION:Warburgstraße 26\, 20354 Hamburg
ORGANIZER:CSMC
SUMMARY:African Manuscript Cultures Award Lecture
END:VEVENT
END:VCALENDAR
