BEGIN:VCALENDAR
VERSION:2.0
PRODID:icalendar-ruby
CALSCALE:GREGORIAN
METHOD:PUBLISH
BEGIN:VEVENT
DTSTAMP:20260422T094739Z
UID:UHH_29036608_29036678
DTSTART:20260427T151500
DTEND:20260427T161500
LAST-MODIFIED:20260415T114055
LOCATION:online
ORGANIZER:CSMC
SUMMARY:Informal Talk: Elsa Cardoso
END:VEVENT
END:VCALENDAR
