BEGIN:VCALENDAR
VERSION:2.0
PRODID:icalendar-ruby
CALSCALE:GREGORIAN
METHOD:PUBLISH
BEGIN:VEVENT
DTSTAMP:20260421T072515Z
UID:UHH_29036599_29036670
DTSTART:20260428T141500
DTEND:20260428T154500
LAST-MODIFIED:20260413T121055
LOCATION:Warburgstraße 26\, 20354 Hamburg
ORGANIZER:CSMC
SUMMARY:Informal Talk: Javier Albarran
END:VEVENT
END:VCALENDAR
